BEGIN:VCALENDAR
VERSION:2.0
PRODID:-//Northridge Owners Association - ECPv6.15.20//NONSGML v1.0//EN
CALSCALE:GREGORIAN
METHOD:PUBLISH
X-WR-CALNAME:Northridge Owners Association
X-ORIGINAL-URL:https://northridgehomeowners.com
X-WR-CALDESC:Events for Northridge Owners Association
REFRESH-INTERVAL;VALUE=DURATION:PT1H
X-Robots-Tag:noindex
X-PUBLISHED-TTL:PT1H
BEGIN:VTIMEZONE
TZID:America/Los_Angeles
BEGIN:DAYLIGHT
TZOFFSETFROM:-0800
TZOFFSETTO:-0700
TZNAME:PDT
DTSTART:20200308T100000
END:DAYLIGHT
BEGIN:STANDARD
TZOFFSETFROM:-0700
TZOFFSETTO:-0800
TZNAME:PST
DTSTART:20201101T090000
END:STANDARD
BEGIN:DAYLIGHT
TZOFFSETFROM:-0800
TZOFFSETTO:-0700
TZNAME:PDT
DTSTART:20210314T100000
END:DAYLIGHT
BEGIN:STANDARD
TZOFFSETFROM:-0700
TZOFFSETTO:-0800
TZNAME:PST
DTSTART:20211107T090000
END:STANDARD
BEGIN:DAYLIGHT
TZOFFSETFROM:-0800
TZOFFSETTO:-0700
TZNAME:PDT
DTSTART:20220313T100000
END:DAYLIGHT
BEGIN:STANDARD
TZOFFSETFROM:-0700
TZOFFSETTO:-0800
TZNAME:PST
DTSTART:20221106T090000
END:STANDARD
BEGIN:DAYLIGHT
TZOFFSETFROM:-0800
TZOFFSETTO:-0700
TZNAME:PDT
DTSTART:20230312T100000
END:DAYLIGHT
BEGIN:STANDARD
TZOFFSETFROM:-0700
TZOFFSETTO:-0800
TZNAME:PST
DTSTART:20231105T090000
END:STANDARD
BEGIN:DAYLIGHT
TZOFFSETFROM:-0800
TZOFFSETTO:-0700
TZNAME:PDT
DTSTART:20240310T100000
END:DAYLIGHT
BEGIN:STANDARD
TZOFFSETFROM:-0700
TZOFFSETTO:-0800
TZNAME:PST
DTSTART:20241103T090000
END:STANDARD
END:VTIMEZONE
BEGIN:VEVENT
DTSTART;TZID=America/Los_Angeles:20230921T180000
DTEND;TZID=America/Los_Angeles:20230921T200000
DTSTAMP:20260424T110349
CREATED:20230914T140708Z
LAST-MODIFIED:20230919T194109Z
UID:1185-1695319200-1695326400@northridgehomeowners.com
SUMMARY:September 21\, 2023 - Informational BOD Meeting
DESCRIPTION:Northridge Owners Association Informational BOD Meeting Agenda 09.21.23\nPlease email our office at hoamgmt@pmahoa.com if you have any questions.
URL:https://northridgehomeowners.com/event/september-21-2023-informational-bod-meeting/
LOCATION:via Zoom
END:VEVENT
BEGIN:VEVENT
DTSTART;TZID=America/Los_Angeles:20230921T180000
DTEND;TZID=America/Los_Angeles:20230921T190000
DTSTAMP:20260424T110349
CREATED:20230919T194226Z
LAST-MODIFIED:20230919T194611Z
UID:1207-1695319200-1695322800@northridgehomeowners.com
SUMMARY:Northridge Owners Association Informational Meeting 09.21.23
DESCRIPTION:Northridge Owners Association Informational Meeting 09.21.23
URL:https://northridgehomeowners.com/event/northridge-owners-association-informational-meeting-09-21-23/
LOCATION:via Zoom
END:VEVENT
BEGIN:VEVENT
DTSTART;TZID=America/Los_Angeles:20230918T180000
DTEND;TZID=America/Los_Angeles:20230918T200000
DTSTAMP:20260424T110349
CREATED:20230915T191640Z
LAST-MODIFIED:20230915T191640Z
UID:1196-1695060000-1695067200@northridgehomeowners.com
SUMMARY:September 18\, 2023 - BOD Executive Session Meeting
DESCRIPTION:Northridge Owners Association BOD Executive Session Meeting Agenda 09.18.23\nSeptember 18\, 2023 at 6:00PM By Zoom \nAGENDA \n\nCall to Order\nExecutive Session:\n\nBoard Alignment on Informational Meeting \n3. Adjournment \nNote:  The Executive Session is not open to homeowners unless specifically invited by the Board.\nPlease email our office at hoamgmt@pmahoa.com if you have any questions.
URL:https://northridgehomeowners.com/event/september-18-2023-bod-executive-session-meeting/
LOCATION:via Zoom
END:VEVENT
BEGIN:VEVENT
DTSTART;TZID=America/Los_Angeles:20230912T190000
DTEND;TZID=America/Los_Angeles:20230912T210000
DTSTAMP:20260424T110349
CREATED:20230906T204056Z
LAST-MODIFIED:20230906T204056Z
UID:1172-1694545200-1694552400@northridgehomeowners.com
SUMMARY:September 12\, 2023 - Regular Board of Directors Meeting
DESCRIPTION:Date: Tuesday\, September 12\, 2023 \nTime: 7:00 PM PDT \nWhere: Northridge Clubhouse at 99 Tuscany Way
URL:https://northridgehomeowners.com/event/september-12-2023-regular-board-of-directors-meeting/
LOCATION:Northridge Clubhouse\, 99 Tuscany Way\, Danville\, CA\, 94506\, United States
END:VEVENT
BEGIN:VEVENT
DTSTART;VALUE=DATE:20230822
DTEND;VALUE=DATE:20230824
DTSTAMP:20260424T110349
CREATED:20230810T162036Z
LAST-MODIFIED:20230810T162036Z
UID:1166-1692662400-1692835199@northridgehomeowners.com
SUMMARY:Tennis Court Closure Aug 22-23\, 2023
DESCRIPTION:ATTN: NORTHRIDGE HOMEOWNERS \nRe: Tennis Courts Closed 8/22 to 8/23/2023. \nNOTICE TO RESIDENTS:\nThe tennis courts will be closed on Tuesday\, August 22 – Wednesday\, August 23\, 2023 for repairs. \nWe apologize for the inconvenience. \nProperty Management & Accounting
URL:https://northridgehomeowners.com/event/tennis-court-closure-aug-22-23-2023/
END:VEVENT
BEGIN:VEVENT
DTSTART;TZID=America/Los_Angeles:20230530T190000
DTEND;TZID=America/Los_Angeles:20230530T210000
DTSTAMP:20260424T110349
CREATED:20230524T145746Z
LAST-MODIFIED:20230524T145930Z
UID:1148-1685473200-1685480400@northridgehomeowners.com
SUMMARY:May 30\, 2023 - Regular Board of Directors Meeting
DESCRIPTION:Date: Tuesday\, May 30\, 2023 \nTime: 7:00 PM PDT \nVia Zoom
URL:https://northridgehomeowners.com/event/may-30-2023-regular-board-of-directors-meeting/
LOCATION:via Zoom
END:VEVENT
BEGIN:VEVENT
DTSTART;VALUE=DATE:20230216
DTEND;VALUE=DATE:20230317
DTSTAMP:20260424T110349
CREATED:20230222T214536Z
LAST-MODIFIED:20230222T214625Z
UID:1135-1676505600-1679011199@northridgehomeowners.com
SUMMARY:Pool Area Trellis Repair and Painting
DESCRIPTION:ATTN: NORTHRIDGE at DANVILLE OWNERS ASSOCIATION \nPlease note the association will be performing planned trellis dry rot replacement and painting of the entire trellis.  From February 16 to March 16\, 2023\, access to the pool area and restrooms is off-limits to everyone except the construction crew.  The target completion date will be ahead of the pool opening on May 1\, 2023. \nPlease visit Northridge Homeowners for all updates. \nIf you have any questions or concerns\, please feel free to email hoamgmt@pmahoa.com. \n~The Northridge Board of Directors
URL:https://northridgehomeowners.com/event/pool-area-trellis-repair-and-painting/
LOCATION:Northridge Pool
END:VEVENT
BEGIN:VEVENT
DTSTART;TZID=America/Los_Angeles:20230110T190000
DTEND;TZID=America/Los_Angeles:20230110T210000
DTSTAMP:20260424T110349
CREATED:20230104T172357Z
LAST-MODIFIED:20230104T172357Z
UID:1115-1673377200-1673384400@northridgehomeowners.com
SUMMARY:1/10/23 - Regular and Annual Board of Directors Meeting
DESCRIPTION:Annual and Regular Board of Directors Meeting Agenda_1.10.23\n\n\n\nInterested in attending? Please email our office at hoamgmt@pmahoa.com no later than Tuesday\, January 10\, 2023\, at 3:00 pm. Please provide name and address for verification purposes. Upon verification\, Zoom link will be provided.
URL:https://northridgehomeowners.com/event/1-10-23-regular-and-annual-board-of-directors-meeting/
LOCATION:via Zoom
END:VEVENT
BEGIN:VEVENT
DTSTART;TZID=America/Los_Angeles:20221011T190000
DTEND;TZID=America/Los_Angeles:20221011T210000
DTSTAMP:20260424T110349
CREATED:20221005T213609Z
LAST-MODIFIED:20221005T213609Z
UID:1102-1665514800-1665522000@northridgehomeowners.com
SUMMARY:10/11/22 - Regular and Annual Board of Directors Meeting
DESCRIPTION:Annual and Regular Board of Directors Meeting Agenda_10.11.22\n\n\n\nInterested in attending? Please email our office at hoamgmt@pmahoa.com no later than Tuesday\, October 11\, 2022 at 3:00 pm. Please provide name and address for verification purposes. Upon verification\, Zoom link will be provided.
URL:https://northridgehomeowners.com/event/10-11-22-regular-and-annual-board-of-directors-meeting/
LOCATION:via Zoom
END:VEVENT
BEGIN:VEVENT
DTSTART;TZID=America/Los_Angeles:20220510T190000
DTEND;TZID=America/Los_Angeles:20220510T210000
DTSTAMP:20260424T110349
CREATED:20220502T204041Z
LAST-MODIFIED:20220502T204120Z
UID:1080-1652209200-1652216400@northridgehomeowners.com
SUMMARY:May 10\, 2022 - Regular Board of Directors Meeting
DESCRIPTION:Northridge Owners Association Regular Board of Directors Meeting Agenda_05.02.22\n\n\n\nInterested in attending? Please email our office at hoamgmt@pmahoa.com no later than Tuesday\, May 10\, 2022\, at 3:00 pm. Please provide name and address for verification purposes. Upon verification\, Zoom info will be provided.
URL:https://northridgehomeowners.com/event/may-10-2022-regular-board-of-directors-meeting/
LOCATION:via Zoom
END:VEVENT
BEGIN:VEVENT
DTSTART;TZID=America/Los_Angeles:20211005T190000
DTEND;TZID=America/Los_Angeles:20211005T210000
DTSTAMP:20260424T110349
CREATED:20211005T141012Z
LAST-MODIFIED:20211005T141012Z
UID:1041-1633460400-1633467600@northridgehomeowners.com
SUMMARY:10/5/21 - Regular and Annual Board of Directors Meeting
DESCRIPTION:NOA Reconvened Annual and Regular Board of Directors Meeting Agenda_10.05.21\n\n\nInterested in attending? Please email our office at hoamgmt@pmahoa.com no later than Tuesday\, October 5\, 2021 at 3:00 pm. Please provide name and address for verification purposes. Upon verification\, Zoom link will be provided.
URL:https://northridgehomeowners.com/event/10-5-21-regular-and-annual-board-of-directors-meeting/
LOCATION:via Zoom
END:VEVENT
END:VCALENDAR